BEGIN:VCALENDAR
VERSION:2.0
PRODID:-//Project Patch - ECPv6.15.20//NONSGML v1.0//EN
CALSCALE:GREGORIAN
METHOD:PUBLISH
X-WR-CALNAME:Project Patch
X-ORIGINAL-URL:https://projectpatch.org
X-WR-CALDESC:Events for Project Patch
REFRESH-INTERVAL;VALUE=DURATION:PT1H
X-Robots-Tag:noindex
X-PUBLISHED-TTL:PT1H
BEGIN:VTIMEZONE
TZID:America/Los_Angeles
BEGIN:DAYLIGHT
TZOFFSETFROM:-0800
TZOFFSETTO:-0700
TZNAME:PDT
DTSTART:20160313T100000
END:DAYLIGHT
BEGIN:STANDARD
TZOFFSETFROM:-0700
TZOFFSETTO:-0800
TZNAME:PST
DTSTART:20161106T090000
END:STANDARD
BEGIN:DAYLIGHT
TZOFFSETFROM:-0800
TZOFFSETTO:-0700
TZNAME:PDT
DTSTART:20170312T100000
END:DAYLIGHT
BEGIN:STANDARD
TZOFFSETFROM:-0700
TZOFFSETTO:-0800
TZNAME:PST
DTSTART:20171105T090000
END:STANDARD
BEGIN:DAYLIGHT
TZOFFSETFROM:-0800
TZOFFSETTO:-0700
TZNAME:PDT
DTSTART:20180311T100000
END:DAYLIGHT
BEGIN:STANDARD
TZOFFSETFROM:-0700
TZOFFSETTO:-0800
TZNAME:PST
DTSTART:20181104T090000
END:STANDARD
END:VTIMEZONE
BEGIN:VEVENT
DTSTART;TZID=America/Los_Angeles:20170120T190000
DTEND;TZID=America/Los_Angeles:20170121T170000
DTSTAMP:20260419T094854
CREATED:20161219T214230Z
LAST-MODIFIED:20170119T232518Z
UID:10000033-1484938800-1485018000@projectpatch.org
SUMMARY:Raising Tech Safe Kids Seminar
DESCRIPTION:Join us for a Free two day seminar focused on raising kids who are able to live responsibly and socially in a tech filled world. \n \nThis free workshop helps parents raise kids in the world of technology.  Kids need to be able to own the “off switch” before they leave home. Learn the risks your child faces online as well as tools to prepare them for life.  Whether you are a parent of young kids\, teens or even a grandparent\, you will benefit from attending. \nFriday\, January 21 – 7:00 PM – 8:30 PM – Raising Life Ready Kids \nSaturday\, January 22 – 2 PM – 5 PM – Raising Tech Safe Kids \nChild care provided for children ages 12 and under. \nRegistration not required but encouraged.  Email vancouverhealthyliving@gmail.com or call 360-969-2511 \n 
URL:https://projectpatch.org/event/raising-tech-safe-kids-seminar/
LOCATION:Adventist Community Church\, 9711 NE St. John's Road\, Vancouver\, WA\, 98665\, United States
CATEGORIES:Seminar/Speaking
ATTACH;FMTTYPE=image/png:https://projectpatch.org/wp-content/uploads/2016/12/Vancouver-SDA-Seminar.png
ORGANIZER;CN="Adventi":MAILTO:vancouverhealthyliving@gmail.com
GEO:45.6924498;-122.6150447
X-APPLE-STRUCTURED-LOCATION;VALUE=URI;X-ADDRESS=Adventist Community Church 9711 NE St. John's Road Vancouver WA 98665 United States;X-APPLE-RADIUS=500;X-TITLE=9711 NE St. John's Road:geo:-122.6150447,45.6924498
END:VEVENT
END:VCALENDAR